BEGIN:VCALENDAR
VERSION:2.0
PRODID:-//L Union Cycliste 31 - ECPv6.15.20//NONSGML v1.0//EN
CALSCALE:GREGORIAN
METHOD:PUBLISH
X-WR-CALNAME:L Union Cycliste 31
X-ORIGINAL-URL:https://www.lunioncycliste31.fr
X-WR-CALDESC:Évènements pour L Union Cycliste 31
REFRESH-INTERVAL;VALUE=DURATION:PT1H
X-Robots-Tag:noindex
X-PUBLISHED-TTL:PT1H
BEGIN:VTIMEZONE
TZID:Europe/Paris
BEGIN:DAYLIGHT
TZOFFSETFROM:+0100
TZOFFSETTO:+0200
TZNAME:CEST
DTSTART:20210328T010000
END:DAYLIGHT
BEGIN:STANDARD
TZOFFSETFROM:+0200
TZOFFSETTO:+0100
TZNAME:CET
DTSTART:20211031T010000
END:STANDARD
BEGIN:DAYLIGHT
TZOFFSETFROM:+0100
TZOFFSETTO:+0200
TZNAME:CEST
DTSTART:20220327T010000
END:DAYLIGHT
BEGIN:STANDARD
TZOFFSETFROM:+0200
TZOFFSETTO:+0100
TZNAME:CET
DTSTART:20221030T010000
END:STANDARD
BEGIN:DAYLIGHT
TZOFFSETFROM:+0100
TZOFFSETTO:+0200
TZNAME:CEST
DTSTART:20230326T010000
END:DAYLIGHT
BEGIN:STANDARD
TZOFFSETFROM:+0200
TZOFFSETTO:+0100
TZNAME:CET
DTSTART:20231029T010000
END:STANDARD
END:VTIMEZONE
BEGIN:VEVENT
DTSTART;TZID=Europe/Paris:20220403T090000
DTEND;TZID=Europe/Paris:20220403T123000
DTSTAMP:20260426T054148
CREATED:20220401T115609Z
LAST-MODIFIED:20220401T115609Z
UID:4534-1648976400-1648989000@www.lunioncycliste31.fr
SUMMARY:Parcours Dimanche 03 Avril 2022
DESCRIPTION:
URL:https://www.lunioncycliste31.fr/index.php/event/parcours-dimanche-03-avril-2022/
LOCATION:Stade Beney\, rue du Puy de Sancy\, L'Union\, 31240\, France
CATEGORIES:Parcours Dimanche,Sortie Club
END:VEVENT
BEGIN:VEVENT
DTSTART;TZID=Europe/Paris:20220410T090000
DTEND;TZID=Europe/Paris:20220410T123000
DTSTAMP:20260426T054148
CREATED:20220409T093526Z
LAST-MODIFIED:20220409T093526Z
UID:4537-1649581200-1649593800@www.lunioncycliste31.fr
SUMMARY:Parcours de Dimanche 10 avril 2022
DESCRIPTION:
URL:https://www.lunioncycliste31.fr/index.php/event/parcours-de-dimanche-10-avril-2022/
LOCATION:Stade Beney\, rue du Puy de Sancy\, L'Union\, 31240\, France
CATEGORIES:Parcours Dimanche,Sortie Club
END:VEVENT
BEGIN:VEVENT
DTSTART;TZID=Europe/Paris:20220417T083000
DTEND;TZID=Europe/Paris:20220417T123000
DTSTAMP:20260426T054148
CREATED:20220415T065943Z
LAST-MODIFIED:20220415T065943Z
UID:4539-1650184200-1650198600@www.lunioncycliste31.fr
SUMMARY:Parcours de Dimanche 17 Avril 2022
DESCRIPTION:ATTENTION DEPART à 8H30 de la Maison des Sports \n  \n 
URL:https://www.lunioncycliste31.fr/index.php/event/parcours-de-dimanche-17-avril-2022/
LOCATION:Stade Beney\, rue du Puy de Sancy\, L'Union\, 31240\, France
CATEGORIES:Parcours Dimanche,Sortie Club
END:VEVENT
BEGIN:VEVENT
DTSTART;TZID=Europe/Paris:20220424T083000
DTEND;TZID=Europe/Paris:20220424T123000
DTSTAMP:20260426T054148
CREATED:20220423T152241Z
LAST-MODIFIED:20220423T152241Z
UID:4542-1650789000-1650803400@www.lunioncycliste31.fr
SUMMARY:Parcours Dimanche 24 Avril 2022
DESCRIPTION:
URL:https://www.lunioncycliste31.fr/index.php/event/parcours-dimanche-24-avril-2022/
LOCATION:Stade Beney\, rue du Puy de Sancy\, L'Union\, 31240\, France
CATEGORIES:Parcours Dimanche,Sortie Club
END:VEVENT
END:VCALENDAR