BEGIN:VCALENDAR
VERSION:2.0
PRODID:-//L Union Cycliste 31 - ECPv6.15.20//NONSGML v1.0//EN
CALSCALE:GREGORIAN
METHOD:PUBLISH
X-ORIGINAL-URL:https://www.lunioncycliste31.fr
X-WR-CALDESC:Évènements pour L Union Cycliste 31
REFRESH-INTERVAL;VALUE=DURATION:PT1H
X-Robots-Tag:noindex
X-PUBLISHED-TTL:PT1H
BEGIN:VTIMEZONE
TZID:Europe/Paris
BEGIN:DAYLIGHT
TZOFFSETFROM:+0100
TZOFFSETTO:+0200
TZNAME:CEST
DTSTART:20210328T010000
END:DAYLIGHT
BEGIN:STANDARD
TZOFFSETFROM:+0200
TZOFFSETTO:+0100
TZNAME:CET
DTSTART:20211031T010000
END:STANDARD
BEGIN:DAYLIGHT
TZOFFSETFROM:+0100
TZOFFSETTO:+0200
TZNAME:CEST
DTSTART:20220327T010000
END:DAYLIGHT
BEGIN:STANDARD
TZOFFSETFROM:+0200
TZOFFSETTO:+0100
TZNAME:CET
DTSTART:20221030T010000
END:STANDARD
BEGIN:DAYLIGHT
TZOFFSETFROM:+0100
TZOFFSETTO:+0200
TZNAME:CEST
DTSTART:20230326T010000
END:DAYLIGHT
BEGIN:STANDARD
TZOFFSETFROM:+0200
TZOFFSETTO:+0100
TZNAME:CET
DTSTART:20231029T010000
END:STANDARD
END:VTIMEZONE
BEGIN:VEVENT
DTSTART;TZID=Europe/Paris:20221009T083000
DTEND;TZID=Europe/Paris:20221009T123000
DTSTAMP:20260425T195913
CREATED:20221007T072532Z
LAST-MODIFIED:20221007T072544Z
UID:5137-1665304200-1665318600@www.lunioncycliste31.fr
SUMMARY:Dimanche 09 Octobre 2022                 Sortie Découverte 2 parcours
DESCRIPTION:Sortie découverte Parcours de 62 kms \n \n  \n Sortie découverte parcours de 86 kms
URL:https://www.lunioncycliste31.fr/index.php/event/dimanche-09-octobre-2022-sortie-decouverte-2-parcours/
LOCATION:Stade Beney\, rue du Puy de Sancy\, L'Union\, 31240\, France
CATEGORIES:Parcours Dimanche,Sortie Club
END:VEVENT
BEGIN:VEVENT
DTSTART;TZID=Europe/Paris:20221016T083000
DTEND;TZID=Europe/Paris:20221016T123000
DTSTAMP:20260425T195913
CREATED:20221014T092043Z
LAST-MODIFIED:20221014T092043Z
UID:5139-1665909000-1665923400@www.lunioncycliste31.fr
SUMMARY:Parcours de Dimanche 16 Octobre 2022
DESCRIPTION:
URL:https://www.lunioncycliste31.fr/index.php/event/parcours-de-dimanche-16-octobre-2022/
LOCATION:Stade Beney\, rue du Puy de Sancy\, L'Union\, 31240\, France
CATEGORIES:Parcours Dimanche,Sortie Club
END:VEVENT
BEGIN:VEVENT
DTSTART;TZID=Europe/Paris:20221023T083000
DTEND;TZID=Europe/Paris:20221023T120000
DTSTAMP:20260425T195913
CREATED:20221022T131825Z
LAST-MODIFIED:20221022T131825Z
UID:5167-1666513800-1666526400@www.lunioncycliste31.fr
SUMMARY:Sortie du dimanche 23/10/2022
DESCRIPTION:
URL:https://www.lunioncycliste31.fr/index.php/event/sortie-du-dimanche-23-10-2022/
LOCATION:Stade Beney\, rue du Puy de Sancy\, L'Union\, 31240\, France
CATEGORIES:Parcours Dimanche
END:VEVENT
BEGIN:VEVENT
DTSTART;TZID=Europe/Paris:20221030T083000
DTEND;TZID=Europe/Paris:20221030T120000
DTSTAMP:20260425T195913
CREATED:20221029T135752Z
LAST-MODIFIED:20221029T135752Z
UID:5170-1667118600-1667131200@www.lunioncycliste31.fr
SUMMARY:Sortie dominicale - 30/10/2022
DESCRIPTION:
URL:https://www.lunioncycliste31.fr/index.php/event/sortie-dominicale-30-10-2022/
LOCATION:Stade Beney\, rue du Puy de Sancy\, L'Union\, 31240\, France
CATEGORIES:Parcours Dimanche
ATTACH;FMTTYPE=image/png:https://www.lunioncycliste31.fr/wp-content/uploads/2017/09/logo_UCycliste31_150.png
END:VEVENT
END:VCALENDAR