BEGIN:VCALENDAR
VERSION:2.0
PRODID:-//L Union Cycliste 31 - ECPv6.15.20//NONSGML v1.0//EN
CALSCALE:GREGORIAN
METHOD:PUBLISH
X-ORIGINAL-URL:https://www.lunioncycliste31.fr
X-WR-CALDESC:Évènements pour L Union Cycliste 31
REFRESH-INTERVAL;VALUE=DURATION:PT1H
X-Robots-Tag:noindex
X-PUBLISHED-TTL:PT1H
BEGIN:VTIMEZONE
TZID:Europe/Paris
BEGIN:DAYLIGHT
TZOFFSETFROM:+0100
TZOFFSETTO:+0200
TZNAME:CEST
DTSTART:20210328T010000
END:DAYLIGHT
BEGIN:STANDARD
TZOFFSETFROM:+0200
TZOFFSETTO:+0100
TZNAME:CET
DTSTART:20211031T010000
END:STANDARD
BEGIN:DAYLIGHT
TZOFFSETFROM:+0100
TZOFFSETTO:+0200
TZNAME:CEST
DTSTART:20220327T010000
END:DAYLIGHT
BEGIN:STANDARD
TZOFFSETFROM:+0200
TZOFFSETTO:+0100
TZNAME:CET
DTSTART:20221030T010000
END:STANDARD
BEGIN:DAYLIGHT
TZOFFSETFROM:+0100
TZOFFSETTO:+0200
TZNAME:CEST
DTSTART:20230326T010000
END:DAYLIGHT
BEGIN:STANDARD
TZOFFSETFROM:+0200
TZOFFSETTO:+0100
TZNAME:CET
DTSTART:20231029T010000
END:STANDARD
END:VTIMEZONE
BEGIN:VEVENT
DTSTART;TZID=Europe/Paris:20221106T090000
DTEND;TZID=Europe/Paris:20221106T123000
DTSTAMP:20260425T183039
CREATED:20221105T110549Z
LAST-MODIFIED:20221105T110549Z
UID:5173-1667725200-1667737800@www.lunioncycliste31.fr
SUMMARY:Parcours de Dimanche 06 NOVEMBRE 2022
DESCRIPTION:
URL:https://www.lunioncycliste31.fr/index.php/event/parcours-de-dimanche-06-novembre-2022/
LOCATION:Stade Beney\, rue du Puy de Sancy\, L'Union\, 31240\, France
CATEGORIES:Parcours Dimanche,Sortie Club
END:VEVENT
BEGIN:VEVENT
DTSTART;TZID=Europe/Paris:20221113T090000
DTEND;TZID=Europe/Paris:20221113T123000
DTSTAMP:20260425T183039
CREATED:20221109T145440Z
LAST-MODIFIED:20221109T145726Z
UID:5175-1668330000-1668342600@www.lunioncycliste31.fr
SUMMARY:Parcours Dimanche 13 Novembre 2022
DESCRIPTION:
URL:https://www.lunioncycliste31.fr/index.php/event/5175/
LOCATION:Stade Beney\, rue du Puy de Sancy\, L'Union\, 31240\, France
CATEGORIES:Parcours Dimanche,Sortie Club
END:VEVENT
BEGIN:VEVENT
DTSTART;TZID=Europe/Paris:20221120T090000
DTEND;TZID=Europe/Paris:20221120T123000
DTSTAMP:20260425T183039
CREATED:20221119T133325Z
LAST-MODIFIED:20221119T133325Z
UID:5180-1668934800-1668947400@www.lunioncycliste31.fr
SUMMARY:Parcours de Dimanche 20 Novembre 2022
DESCRIPTION:
URL:https://www.lunioncycliste31.fr/index.php/event/parcours-de-dimanche-20-novembre-2022/
LOCATION:Stade Beney\, rue du Puy de Sancy\, L'Union\, 31240\, France
CATEGORIES:Parcours Dimanche,Sortie Club
END:VEVENT
BEGIN:VEVENT
DTSTART;TZID=Europe/Paris:20221127T090000
DTEND;TZID=Europe/Paris:20221127T123000
DTSTAMP:20260425T183039
CREATED:20221125T092552Z
LAST-MODIFIED:20221125T092552Z
UID:5182-1669539600-1669552200@www.lunioncycliste31.fr
SUMMARY:Parcours de Dimanche 25 Novembre 2022
DESCRIPTION:
URL:https://www.lunioncycliste31.fr/index.php/event/parcours-de-dimanche-25-novembre-2022/
LOCATION:Stade Beney\, rue du Puy de Sancy\, L'Union\, 31240\, France
CATEGORIES:Parcours Dimanche,Sortie Club
END:VEVENT
END:VCALENDAR