BEGIN:VCALENDAR
VERSION:2.0
PRODID:-//L Union Cycliste 31 - ECPv6.15.20//NONSGML v1.0//EN
CALSCALE:GREGORIAN
METHOD:PUBLISH
X-WR-CALNAME:L Union Cycliste 31
X-ORIGINAL-URL:https://www.lunioncycliste31.fr
X-WR-CALDESC:Évènements pour L Union Cycliste 31
REFRESH-INTERVAL;VALUE=DURATION:PT1H
X-Robots-Tag:noindex
X-PUBLISHED-TTL:PT1H
BEGIN:VTIMEZONE
TZID:Europe/Paris
BEGIN:DAYLIGHT
TZOFFSETFROM:+0100
TZOFFSETTO:+0200
TZNAME:CEST
DTSTART:20210328T010000
END:DAYLIGHT
BEGIN:STANDARD
TZOFFSETFROM:+0200
TZOFFSETTO:+0100
TZNAME:CET
DTSTART:20211031T010000
END:STANDARD
BEGIN:DAYLIGHT
TZOFFSETFROM:+0100
TZOFFSETTO:+0200
TZNAME:CEST
DTSTART:20220327T010000
END:DAYLIGHT
BEGIN:STANDARD
TZOFFSETFROM:+0200
TZOFFSETTO:+0100
TZNAME:CET
DTSTART:20221030T010000
END:STANDARD
BEGIN:DAYLIGHT
TZOFFSETFROM:+0100
TZOFFSETTO:+0200
TZNAME:CEST
DTSTART:20230326T010000
END:DAYLIGHT
BEGIN:STANDARD
TZOFFSETFROM:+0200
TZOFFSETTO:+0100
TZNAME:CET
DTSTART:20231029T010000
END:STANDARD
END:VTIMEZONE
BEGIN:VEVENT
DTSTART;TZID=Europe/Paris:20221204T090000
DTEND;TZID=Europe/Paris:20221204T123000
DTSTAMP:20260425T170724
CREATED:20221202T173548Z
LAST-MODIFIED:20221202T173548Z
UID:5185-1670144400-1670157000@www.lunioncycliste31.fr
SUMMARY:Parcours de Dimanche 04 Décembre 2022
DESCRIPTION:
URL:https://www.lunioncycliste31.fr/index.php/event/parcours-de-dimanche-04-decembre-2022/
LOCATION:Stade Beney\, rue du Puy de Sancy\, L'Union\, 31240\, France
CATEGORIES:Parcours Dimanche,Sortie Club
END:VEVENT
BEGIN:VEVENT
DTSTART;TZID=Europe/Paris:20221211T090000
DTEND;TZID=Europe/Paris:20221211T123000
DTSTAMP:20260425T170724
CREATED:20221210T151844Z
LAST-MODIFIED:20221210T151844Z
UID:5191-1670749200-1670761800@www.lunioncycliste31.fr
SUMMARY:Parcours de Dimanche 11 Décembre 2022
DESCRIPTION:
URL:https://www.lunioncycliste31.fr/index.php/event/parcours-de-dimanche-11-decembre-2022/
LOCATION:Stade Beney\, rue du Puy de Sancy\, L'Union\, 31240\, France
CATEGORIES:Parcours Dimanche,Sortie Club
END:VEVENT
END:VCALENDAR