BEGIN:VCALENDAR
VERSION:2.0
PRODID:-//L Union Cycliste 31 - ECPv6.15.20//NONSGML v1.0//EN
CALSCALE:GREGORIAN
METHOD:PUBLISH
X-ORIGINAL-URL:https://www.lunioncycliste31.fr
X-WR-CALDESC:Évènements pour L Union Cycliste 31
REFRESH-INTERVAL;VALUE=DURATION:PT1H
X-Robots-Tag:noindex
X-PUBLISHED-TTL:PT1H
BEGIN:VTIMEZONE
TZID:Europe/Paris
BEGIN:DAYLIGHT
TZOFFSETFROM:+0100
TZOFFSETTO:+0200
TZNAME:CEST
DTSTART:20220327T010000
END:DAYLIGHT
BEGIN:STANDARD
TZOFFSETFROM:+0200
TZOFFSETTO:+0100
TZNAME:CET
DTSTART:20221030T010000
END:STANDARD
BEGIN:DAYLIGHT
TZOFFSETFROM:+0100
TZOFFSETTO:+0200
TZNAME:CEST
DTSTART:20230326T010000
END:DAYLIGHT
BEGIN:STANDARD
TZOFFSETFROM:+0200
TZOFFSETTO:+0100
TZNAME:CET
DTSTART:20231029T010000
END:STANDARD
BEGIN:DAYLIGHT
TZOFFSETFROM:+0100
TZOFFSETTO:+0200
TZNAME:CEST
DTSTART:20240331T010000
END:DAYLIGHT
BEGIN:STANDARD
TZOFFSETFROM:+0200
TZOFFSETTO:+0100
TZNAME:CET
DTSTART:20241027T010000
END:STANDARD
END:VTIMEZONE
BEGIN:VEVENT
DTSTART;TZID=Europe/Paris:20230108T090000
DTEND;TZID=Europe/Paris:20230108T123000
DTSTAMP:20260425T154140
CREATED:20230106T155441Z
LAST-MODIFIED:20230106T155441Z
UID:5210-1673168400-1673181000@www.lunioncycliste31.fr
SUMMARY:Parcours de Dimanche 08 Janvier 2023
DESCRIPTION:
URL:https://www.lunioncycliste31.fr/index.php/event/parcours-de-dimanche-08-janvier-2023/
LOCATION:Stade Beney\, rue du Puy de Sancy\, L'Union\, 31240\, France
CATEGORIES:Parcours Dimanche,Sortie Club
END:VEVENT
BEGIN:VEVENT
DTSTART;TZID=Europe/Paris:20230115T090000
DTEND;TZID=Europe/Paris:20230115T123000
DTSTAMP:20260425T154140
CREATED:20230113T181326Z
LAST-MODIFIED:20230113T181326Z
UID:5260-1673773200-1673785800@www.lunioncycliste31.fr
SUMMARY:Parcours de Dimanche 15 Janvier 2023
DESCRIPTION:
URL:https://www.lunioncycliste31.fr/index.php/event/parcours-de-dimanche-15-janvier-2023/
LOCATION:Stade Beney\, rue du Puy de Sancy\, L'Union\, 31240\, France
CATEGORIES:Parcours Dimanche,Sortie Club
END:VEVENT
BEGIN:VEVENT
DTSTART;TZID=Europe/Paris:20230122T090000
DTEND;TZID=Europe/Paris:20230122T123000
DTSTAMP:20260425T154140
CREATED:20230120T161950Z
LAST-MODIFIED:20230120T162958Z
UID:5449-1674378000-1674390600@www.lunioncycliste31.fr
SUMMARY:Parcours de Dimanche 22 Janvier 2023
DESCRIPTION:
URL:https://www.lunioncycliste31.fr/index.php/event/parcours-de-dimanche-22-janvier-2023/
LOCATION:Stade Beney\, rue du Puy de Sancy\, L'Union\, 31240\, France
CATEGORIES:Parcours Dimanche,Sortie Club
END:VEVENT
BEGIN:VEVENT
DTSTART;TZID=Europe/Paris:20230129T090000
DTEND;TZID=Europe/Paris:20230129T123000
DTSTAMP:20260425T154140
CREATED:20230128T142358Z
LAST-MODIFIED:20230128T142358Z
UID:5452-1674982800-1674995400@www.lunioncycliste31.fr
SUMMARY:Parcours de Dimanche 29 Janvier 2023
DESCRIPTION:
URL:https://www.lunioncycliste31.fr/index.php/event/parcours-de-dimanche-29-janvier-2023/
CATEGORIES:Parcours Dimanche,Sortie Club
END:VEVENT
END:VCALENDAR