BEGIN:VCALENDAR
VERSION:2.0
PRODID:-//L Union Cycliste 31 - ECPv6.15.20//NONSGML v1.0//EN
CALSCALE:GREGORIAN
METHOD:PUBLISH
X-ORIGINAL-URL:https://www.lunioncycliste31.fr
X-WR-CALDESC:Évènements pour L Union Cycliste 31
REFRESH-INTERVAL;VALUE=DURATION:PT1H
X-Robots-Tag:noindex
X-PUBLISHED-TTL:PT1H
BEGIN:VTIMEZONE
TZID:Europe/Paris
BEGIN:DAYLIGHT
TZOFFSETFROM:+0100
TZOFFSETTO:+0200
TZNAME:CEST
DTSTART:20220327T010000
END:DAYLIGHT
BEGIN:STANDARD
TZOFFSETFROM:+0200
TZOFFSETTO:+0100
TZNAME:CET
DTSTART:20221030T010000
END:STANDARD
BEGIN:DAYLIGHT
TZOFFSETFROM:+0100
TZOFFSETTO:+0200
TZNAME:CEST
DTSTART:20230326T010000
END:DAYLIGHT
BEGIN:STANDARD
TZOFFSETFROM:+0200
TZOFFSETTO:+0100
TZNAME:CET
DTSTART:20231029T010000
END:STANDARD
BEGIN:DAYLIGHT
TZOFFSETFROM:+0100
TZOFFSETTO:+0200
TZNAME:CEST
DTSTART:20240331T010000
END:DAYLIGHT
BEGIN:STANDARD
TZOFFSETFROM:+0200
TZOFFSETTO:+0100
TZNAME:CET
DTSTART:20241027T010000
END:STANDARD
END:VTIMEZONE
BEGIN:VEVENT
DTSTART;TZID=Europe/Paris:20231008T083000
DTEND;TZID=Europe/Paris:20231008T123000
DTSTAMP:20260425T022924
CREATED:20231006T132344Z
LAST-MODIFIED:20231006T132344Z
UID:5710-1696753800-1696768200@www.lunioncycliste31.fr
SUMMARY:Sortie Découverte Dimanche 08 Octobre 2023\,  2 parcours 62 ou 77 kms
DESCRIPTION:Parcours 77kms \n \n  \nParcours 62kms
URL:https://www.lunioncycliste31.fr/index.php/event/sortie-decouverte-dimanche-08-octobre-2023-2-parcours-62-ou-77-kms/
LOCATION:Stade Beney\, rue du Puy de Sancy\, L'Union\, 31240\, France
CATEGORIES:Parcours Dimanche,Sortie Club
END:VEVENT
BEGIN:VEVENT
DTSTART;TZID=Europe/Paris:20231015T083000
DTEND;TZID=Europe/Paris:20231015T123000
DTSTAMP:20260425T022924
CREATED:20231014T143626Z
LAST-MODIFIED:20231014T143626Z
UID:5714-1697358600-1697373000@www.lunioncycliste31.fr
SUMMARY:Parcours de Dimanche 15 Octobre 2023
DESCRIPTION:
URL:https://www.lunioncycliste31.fr/index.php/event/parcours-de-dimanche-15-octobre-2023/
LOCATION:Stade Beney\, rue du Puy de Sancy\, L'Union\, 31240\, France
CATEGORIES:Parcours Dimanche,Sortie Club
END:VEVENT
BEGIN:VEVENT
DTSTART;TZID=Europe/Paris:20231022T090000
DTEND;TZID=Europe/Paris:20231022T123000
DTSTAMP:20260425T022924
CREATED:20231020T165353Z
LAST-MODIFIED:20231020T165353Z
UID:5716-1697965200-1697977800@www.lunioncycliste31.fr
SUMMARY:Parcours de Dimanche 22 Octobre 2023
DESCRIPTION:
URL:https://www.lunioncycliste31.fr/index.php/event/parcours-de-dimanche-22-octobre-2023/
LOCATION:Stade Beney\, rue du Puy de Sancy\, L'Union\, 31240\, France
CATEGORIES:Parcours Dimanche,Sortie Club
END:VEVENT
BEGIN:VEVENT
DTSTART;TZID=Europe/Paris:20231029T090000
DTEND;TZID=Europe/Paris:20231029T123000
DTSTAMP:20260425T022924
CREATED:20231026T154341Z
LAST-MODIFIED:20231026T154341Z
UID:5719-1698570000-1698582600@www.lunioncycliste31.fr
SUMMARY:Parcours de Dimanche 29 Octobre 2023
DESCRIPTION:
URL:https://www.lunioncycliste31.fr/index.php/event/parcours-de-dimanche-29-octobre-2023/
LOCATION:Stade Beney\, rue du Puy de Sancy\, L'Union\, 31240\, France
CATEGORIES:Parcours Dimanche,Sortie Club
END:VEVENT
END:VCALENDAR