BEGIN:VCALENDAR
VERSION:2.0
PRODID:-//L Union Cycliste 31 - ECPv6.15.20//NONSGML v1.0//EN
CALSCALE:GREGORIAN
METHOD:PUBLISH
X-WR-CALNAME:L Union Cycliste 31
X-ORIGINAL-URL:https://www.lunioncycliste31.fr
X-WR-CALDESC:Évènements pour L Union Cycliste 31
REFRESH-INTERVAL;VALUE=DURATION:PT1H
X-Robots-Tag:noindex
X-PUBLISHED-TTL:PT1H
BEGIN:VTIMEZONE
TZID:Europe/Paris
BEGIN:DAYLIGHT
TZOFFSETFROM:+0100
TZOFFSETTO:+0200
TZNAME:CEST
DTSTART:20230326T010000
END:DAYLIGHT
BEGIN:STANDARD
TZOFFSETFROM:+0200
TZOFFSETTO:+0100
TZNAME:CET
DTSTART:20231029T010000
END:STANDARD
BEGIN:DAYLIGHT
TZOFFSETFROM:+0100
TZOFFSETTO:+0200
TZNAME:CEST
DTSTART:20240331T010000
END:DAYLIGHT
BEGIN:STANDARD
TZOFFSETFROM:+0200
TZOFFSETTO:+0100
TZNAME:CET
DTSTART:20241027T010000
END:STANDARD
BEGIN:DAYLIGHT
TZOFFSETFROM:+0100
TZOFFSETTO:+0200
TZNAME:CEST
DTSTART:20250330T010000
END:DAYLIGHT
BEGIN:STANDARD
TZOFFSETFROM:+0200
TZOFFSETTO:+0100
TZNAME:CET
DTSTART:20251026T010000
END:STANDARD
END:VTIMEZONE
BEGIN:VEVENT
DTSTART;TZID=Europe/Paris:20240407T090000
DTEND;TZID=Europe/Paris:20240407T123000
DTSTAMP:20260424T172311
CREATED:20240406T094645Z
LAST-MODIFIED:20240406T094645Z
UID:6236-1712480400-1712493000@www.lunioncycliste31.fr
SUMMARY:Parcours de Dimanche 07 Avril 2024
DESCRIPTION:
URL:https://www.lunioncycliste31.fr/index.php/event/parcours-de-dimanche-07-avril-2024/
LOCATION:Stade Beney\, rue du Puy de Sancy\, L'Union\, 31240\, France
CATEGORIES:Parcours Dimanche,Sortie Club
END:VEVENT
BEGIN:VEVENT
DTSTART;TZID=Europe/Paris:20240414T083000
DTEND;TZID=Europe/Paris:20240414T123000
DTSTAMP:20260424T172311
CREATED:20240412T161204Z
LAST-MODIFIED:20240412T161204Z
UID:6238-1713083400-1713097800@www.lunioncycliste31.fr
SUMMARY:Parcours de dimanche 14 Avril 2024
DESCRIPTION:
URL:https://www.lunioncycliste31.fr/index.php/event/parcours-de-dimanche-14-avril-2024/
LOCATION:Stade Beney\, rue du Puy de Sancy\, L'Union\, 31240\, France
CATEGORIES:Parcours Dimanche,Sortie Club
END:VEVENT
BEGIN:VEVENT
DTSTART;TZID=Europe/Paris:20240421T083000
DTEND;TZID=Europe/Paris:20240421T123000
DTSTAMP:20260424T172311
CREATED:20240420T131118Z
LAST-MODIFIED:20240420T131118Z
UID:6241-1713688200-1713702600@www.lunioncycliste31.fr
SUMMARY:Parcours de Dimanche 21 Avril 2024
DESCRIPTION:
URL:https://www.lunioncycliste31.fr/index.php/event/parcours-de-dimanche-21-avril-2024/
LOCATION:Stade Beney\, rue du Puy de Sancy\, L'Union\, 31240\, France
CATEGORIES:Parcours Dimanche,Sortie Club
END:VEVENT
BEGIN:VEVENT
DTSTART;TZID=Europe/Paris:20240428T083000
DTEND;TZID=Europe/Paris:20240428T123000
DTSTAMP:20260424T172311
CREATED:20240427T152416Z
LAST-MODIFIED:20240427T152416Z
UID:6243-1714293000-1714307400@www.lunioncycliste31.fr
SUMMARY:Parcours de Dimanche 28 Avril 2024
DESCRIPTION:
URL:https://www.lunioncycliste31.fr/index.php/event/parcours-de-dimanche-28-avril-2024/
LOCATION:Stade Beney\, rue du Puy de Sancy\, L'Union\, 31240\, France
CATEGORIES:Parcours Dimanche,Sortie Club
END:VEVENT
END:VCALENDAR