BEGIN:VCALENDAR
VERSION:2.0
PRODID:-//L Union Cycliste 31 - ECPv6.15.20//NONSGML v1.0//EN
CALSCALE:GREGORIAN
METHOD:PUBLISH
X-ORIGINAL-URL:https://www.lunioncycliste31.fr
X-WR-CALDESC:Évènements pour L Union Cycliste 31
REFRESH-INTERVAL;VALUE=DURATION:PT1H
X-Robots-Tag:noindex
X-PUBLISHED-TTL:PT1H
BEGIN:VTIMEZONE
TZID:Europe/Paris
BEGIN:DAYLIGHT
TZOFFSETFROM:+0100
TZOFFSETTO:+0200
TZNAME:CEST
DTSTART:20230326T010000
END:DAYLIGHT
BEGIN:STANDARD
TZOFFSETFROM:+0200
TZOFFSETTO:+0100
TZNAME:CET
DTSTART:20231029T010000
END:STANDARD
BEGIN:DAYLIGHT
TZOFFSETFROM:+0100
TZOFFSETTO:+0200
TZNAME:CEST
DTSTART:20240331T010000
END:DAYLIGHT
BEGIN:STANDARD
TZOFFSETFROM:+0200
TZOFFSETTO:+0100
TZNAME:CET
DTSTART:20241027T010000
END:STANDARD
BEGIN:DAYLIGHT
TZOFFSETFROM:+0100
TZOFFSETTO:+0200
TZNAME:CEST
DTSTART:20250330T010000
END:DAYLIGHT
BEGIN:STANDARD
TZOFFSETFROM:+0200
TZOFFSETTO:+0100
TZNAME:CET
DTSTART:20251026T010000
END:STANDARD
END:VTIMEZONE
BEGIN:VEVENT
DTSTART;TZID=Europe/Paris:20240505T083000
DTEND;TZID=Europe/Paris:20240505T123000
DTSTAMP:20260424T155407
CREATED:20240503T085936Z
LAST-MODIFIED:20240503T085936Z
UID:6280-1714897800-1714912200@www.lunioncycliste31.fr
SUMMARY:Parcours de Dimanche 05 Mai 2024
DESCRIPTION:
URL:https://www.lunioncycliste31.fr/index.php/event/parcours-de-dimanche-05-mai-2024/
CATEGORIES:Parcours Dimanche,Sortie Club
END:VEVENT
BEGIN:VEVENT
DTSTART;TZID=Europe/Paris:20240512T083000
DTEND;TZID=Europe/Paris:20240512T123000
DTSTAMP:20260424T155407
CREATED:20240511T093749Z
LAST-MODIFIED:20240511T093749Z
UID:6283-1715502600-1715517000@www.lunioncycliste31.fr
SUMMARY:Parcours de Dimanche 12 Mai 2024
DESCRIPTION:
URL:https://www.lunioncycliste31.fr/index.php/event/parcours-de-dimanche-12-mai-2024/
LOCATION:Stade Beney\, rue du Puy de Sancy\, L'Union\, 31240\, France
CATEGORIES:Parcours Dimanche,Sortie Club
END:VEVENT
BEGIN:VEVENT
DTSTART;TZID=Europe/Paris:20240519T083000
DTEND;TZID=Europe/Paris:20240519T123000
DTSTAMP:20260424T155407
CREATED:20240517T155704Z
LAST-MODIFIED:20240517T155704Z
UID:6312-1716107400-1716121800@www.lunioncycliste31.fr
SUMMARY:Sortie du Dimanche 19/05/2024
DESCRIPTION:
URL:https://www.lunioncycliste31.fr/index.php/event/sortie-du-dimanche-19-05-2024/
LOCATION:Stade Beney\, rue du Puy de Sancy\, L'Union\, 31240\, France
CATEGORIES:Parcours Dimanche
END:VEVENT
BEGIN:VEVENT
DTSTART;TZID=Europe/Paris:20240526T083000
DTEND;TZID=Europe/Paris:20240526T123000
DTSTAMP:20260424T155407
CREATED:20240522T161935Z
LAST-MODIFIED:20240522T161935Z
UID:6319-1716712200-1716726600@www.lunioncycliste31.fr
SUMMARY:Parcours de Dimanche 26 Mai 2024
DESCRIPTION:
URL:https://www.lunioncycliste31.fr/index.php/event/parcours-de-dimanche-26-mai-2024/
LOCATION:Stade Beney\, rue du Puy de Sancy\, L'Union\, 31240\, France
CATEGORIES:Parcours Dimanche,Sortie Club
END:VEVENT
END:VCALENDAR