BEGIN:VCALENDAR
VERSION:2.0
PRODID:-//L Union Cycliste 31 - ECPv6.15.20//NONSGML v1.0//EN
CALSCALE:GREGORIAN
METHOD:PUBLISH
X-ORIGINAL-URL:https://www.lunioncycliste31.fr
X-WR-CALDESC:Évènements pour L Union Cycliste 31
REFRESH-INTERVAL;VALUE=DURATION:PT1H
X-Robots-Tag:noindex
X-PUBLISHED-TTL:PT1H
BEGIN:VTIMEZONE
TZID:Europe/Paris
BEGIN:DAYLIGHT
TZOFFSETFROM:+0100
TZOFFSETTO:+0200
TZNAME:CEST
DTSTART:20240331T010000
END:DAYLIGHT
BEGIN:STANDARD
TZOFFSETFROM:+0200
TZOFFSETTO:+0100
TZNAME:CET
DTSTART:20241027T010000
END:STANDARD
BEGIN:DAYLIGHT
TZOFFSETFROM:+0100
TZOFFSETTO:+0200
TZNAME:CEST
DTSTART:20250330T010000
END:DAYLIGHT
BEGIN:STANDARD
TZOFFSETFROM:+0200
TZOFFSETTO:+0100
TZNAME:CET
DTSTART:20251026T010000
END:STANDARD
BEGIN:DAYLIGHT
TZOFFSETFROM:+0100
TZOFFSETTO:+0200
TZNAME:CEST
DTSTART:20260329T010000
END:DAYLIGHT
BEGIN:STANDARD
TZOFFSETFROM:+0200
TZOFFSETTO:+0100
TZNAME:CET
DTSTART:20261025T010000
END:STANDARD
END:VTIMEZONE
BEGIN:VEVENT
DTSTART;TZID=Europe/Paris:20250601T083000
DTEND;TZID=Europe/Paris:20250601T123000
DTSTAMP:20260421T041243
CREATED:20250529T092821Z
LAST-MODIFIED:20250529T092821Z
UID:7074-1748766600-1748781000@www.lunioncycliste31.fr
SUMMARY:Parcours de Dimanche 01 Juin 2025
DESCRIPTION:
URL:https://www.lunioncycliste31.fr/index.php/event/parcours-de-dimanche-01-juin-2025/
LOCATION:Stade Beney\, rue du Puy de Sancy\, L'Union\, 31240\, France
CATEGORIES:Parcours Dimanche,Sortie Club
END:VEVENT
BEGIN:VEVENT
DTSTART;TZID=Europe/Paris:20250608T083000
DTEND;TZID=Europe/Paris:20250608T123000
DTSTAMP:20260421T041243
CREATED:20250607T134946Z
LAST-MODIFIED:20250607T134946Z
UID:7278-1749371400-1749385800@www.lunioncycliste31.fr
SUMMARY:Parcours de Dimanche 08 Juin 2025
DESCRIPTION:
URL:https://www.lunioncycliste31.fr/index.php/event/parcours-de-dimanche-08-juin-2025/
LOCATION:Stade Beney\, rue du Puy de Sancy\, L'Union\, 31240\, France
CATEGORIES:Parcours Dimanche,Sortie Club
END:VEVENT
BEGIN:VEVENT
DTSTART;TZID=Europe/Paris:20250615T083000
DTEND;TZID=Europe/Paris:20250615T123000
DTSTAMP:20260421T041243
CREATED:20250613T163755Z
LAST-MODIFIED:20250613T163755Z
UID:7280-1749976200-1749990600@www.lunioncycliste31.fr
SUMMARY:Parcours de Dimanche 15 Juin 2025
DESCRIPTION:
URL:https://www.lunioncycliste31.fr/index.php/event/parcours-de-dimanche-15-juin-2025/
LOCATION:Stade Beney\, rue du Puy de Sancy\, L'Union\, 31240\, France
CATEGORIES:Parcours Dimanche,Sortie Club
END:VEVENT
BEGIN:VEVENT
DTSTART;TZID=Europe/Paris:20250622T080000
DTEND;TZID=Europe/Paris:20250622T123000
DTSTAMP:20260421T041243
CREATED:20250621T145711Z
LAST-MODIFIED:20250621T145711Z
UID:7283-1750579200-1750595400@www.lunioncycliste31.fr
SUMMARY:Reco de l'Etape 11 du Tour 2025 Toulouse - Toulouse
DESCRIPTION:
URL:https://www.lunioncycliste31.fr/index.php/event/reco-de-letape-11-du-tour-2025-toulouse-toulouse/
LOCATION:Stade Beney\, rue du Puy de Sancy\, L'Union\, 31240\, France
CATEGORIES:Parcours Dimanche,Sortie Club
END:VEVENT
BEGIN:VEVENT
DTSTART;TZID=Europe/Paris:20250629T083000
DTEND;TZID=Europe/Paris:20250629T123000
DTSTAMP:20260421T041243
CREATED:20250625T092644Z
LAST-MODIFIED:20250625T092747Z
UID:7285-1751185800-1751200200@www.lunioncycliste31.fr
SUMMARY:Parcours de Dimanche 29 Juin 2025
DESCRIPTION:
URL:https://www.lunioncycliste31.fr/index.php/event/parcours-de-dimanche-29-juin-2025/
LOCATION:Stade Beney\, rue du Puy de Sancy\, L'Union\, 31240\, France
CATEGORIES:Parcours Dimanche,Sortie Club
END:VEVENT
END:VCALENDAR