BEGIN:VCALENDAR
VERSION:2.0
PRODID:-//L Union Cycliste 31 - ECPv6.15.20//NONSGML v1.0//EN
CALSCALE:GREGORIAN
METHOD:PUBLISH
X-ORIGINAL-URL:https://www.lunioncycliste31.fr
X-WR-CALDESC:Évènements pour L Union Cycliste 31
REFRESH-INTERVAL;VALUE=DURATION:PT1H
X-Robots-Tag:noindex
X-PUBLISHED-TTL:PT1H
BEGIN:VTIMEZONE
TZID:Europe/Paris
BEGIN:DAYLIGHT
TZOFFSETFROM:+0100
TZOFFSETTO:+0200
TZNAME:CEST
DTSTART:20240331T010000
END:DAYLIGHT
BEGIN:STANDARD
TZOFFSETFROM:+0200
TZOFFSETTO:+0100
TZNAME:CET
DTSTART:20241027T010000
END:STANDARD
BEGIN:DAYLIGHT
TZOFFSETFROM:+0100
TZOFFSETTO:+0200
TZNAME:CEST
DTSTART:20250330T010000
END:DAYLIGHT
BEGIN:STANDARD
TZOFFSETFROM:+0200
TZOFFSETTO:+0100
TZNAME:CET
DTSTART:20251026T010000
END:STANDARD
BEGIN:DAYLIGHT
TZOFFSETFROM:+0100
TZOFFSETTO:+0200
TZNAME:CEST
DTSTART:20260329T010000
END:DAYLIGHT
BEGIN:STANDARD
TZOFFSETFROM:+0200
TZOFFSETTO:+0100
TZNAME:CET
DTSTART:20261025T010000
END:STANDARD
END:VTIMEZONE
BEGIN:VEVENT
DTSTART;TZID=Europe/Paris:20251012T083000
DTEND;TZID=Europe/Paris:20251012T123000
DTSTAMP:20260421T100623
CREATED:20251011T180820Z
LAST-MODIFIED:20251011T180820Z
UID:7688-1760257800-1760272200@www.lunioncycliste31.fr
SUMMARY:Parcours Sortie découverte Dimanche 12 octobre 2025
DESCRIPTION:80 Kms \n \n  \n  \n60 Kms \n \n 
URL:https://www.lunioncycliste31.fr/index.php/event/parcours-sortie-decouverte-dimanche-12-octobre-2025/
LOCATION:Stade Beney\, rue du Puy de Sancy\, L'Union\, 31240\, France
CATEGORIES:Parcours Dimanche,Sortie Club
END:VEVENT
BEGIN:VEVENT
DTSTART;TZID=Europe/Paris:20251019T083000
DTEND;TZID=Europe/Paris:20251019T123000
DTSTAMP:20260421T100623
CREATED:20251017T154329Z
LAST-MODIFIED:20251017T154329Z
UID:7690-1760862600-1760877000@www.lunioncycliste31.fr
SUMMARY:Parcours de Dimanche 19 Octobre 2025
DESCRIPTION:
URL:https://www.lunioncycliste31.fr/index.php/event/parcours-de-dimanche-19-octobre-2025/
LOCATION:Stade Beney\, rue du Puy de Sancy\, L'Union\, 31240\, France
CATEGORIES:Parcours Dimanche,Sortie Club
END:VEVENT
BEGIN:VEVENT
DTSTART;TZID=Europe/Paris:20251026T083000
DTEND;TZID=Europe/Paris:20251026T123000
DTSTAMP:20260421T100623
CREATED:20251025T081417Z
LAST-MODIFIED:20251025T081417Z
UID:7712-1761467400-1761481800@www.lunioncycliste31.fr
SUMMARY:Parcours de Dimanche 26 Octobre 2025
DESCRIPTION:
URL:https://www.lunioncycliste31.fr/index.php/event/parcours-de-dimanche-26-octobre-2025/
LOCATION:Stade Beney\, rue du Puy de Sancy\, L'Union\, 31240\, France
CATEGORIES:Parcours Dimanche,Sortie Club
END:VEVENT
END:VCALENDAR